BEGIN:VCALENDAR
VERSION:2.0
PRODID:-//Ligue des Pays de la Loire de Badminton - ECPv6.0.8//NONSGML v1.0//EN
CALSCALE:GREGORIAN
METHOD:PUBLISH
X-WR-CALNAME:Ligue des Pays de la Loire de Badminton
X-ORIGINAL-URL:https://www.badminton-paysdelaloire.fr
X-WR-CALDESC:évènements pour Ligue des Pays de la Loire de Badminton
REFRESH-INTERVAL;VALUE=DURATION:PT1H
X-Robots-Tag:noindex
X-PUBLISHED-TTL:PT1H
BEGIN:VTIMEZONE
TZID:Europe/Paris
BEGIN:DAYLIGHT
TZOFFSETFROM:+0100
TZOFFSETTO:+0200
TZNAME:CEST
DTSTART:20240331T010000
END:DAYLIGHT
BEGIN:STANDARD
TZOFFSETFROM:+0200
TZOFFSETTO:+0100
TZNAME:CET
DTSTART:20241027T010000
END:STANDARD
END:VTIMEZONE
BEGIN:VEVENT
DTSTART;VALUE=DATE:20241130
DTEND;VALUE=DATE:20241201
DTSTAMP:20260421T121116
CREATED:20230820T172401Z
LAST-MODIFIED:20241115T163115Z
UID:10000054-1732924800-1733011199@www.badminton-paysdelaloire.fr
SUMMARY:Défi Régional Poussin - Journée 1
DESCRIPTION:Première journée pour le “défi régional poussin” de badminton (ligue Pays de la Loire)\, elle se déroule à Château Gontier. \nInscriptions
URL:https://www.badminton-paysdelaloire.fr/evenement/defi-regional-poussin-journee-1/
LOCATION:Salle de la Lavanderie\, 36 Av. Aristide Briand\, Château-Gontier-sur-Mayenne\, 53200\, France
CATEGORIES:Compétition
ORGANIZER;CN="Ligue%20Pays%20de%20la%20Loire":MAILTO:communication@badminton-paysdelaloire.fr
END:VEVENT
END:VCALENDAR